Workbook

Sheet الدرجات
A1: سلم الرواتب: الدرجات والمراحل
A2: المبالغ شهرية بالليرة السورية الجديدة، وهي أمثلة للتوضيح فقط: استبدلها بأرقام شركتك. الخلايا الصفراء للإدخال، والباقي معادلات.
A4: الحد الأدنى للأجور الشهري (المرسوم ٦٧ لعام ٢٠٢٦) | C4: 12560
A5: الدرجة | B5: الراتب الابتدائي (مثال) | C5: نسبة العلاوة السنوية (مثال) | D5: المرحلة ١ | E5: المرحلة ٢ | F5: المرحلة ٣ | G5: المرحلة ٤ | H5: المرحلة ٥ | I5: المرحلة ٦ | J5: المرحلة ٧ | K5: المرحلة ٨ | L5: المرحلة ٩ | M5: المرحلة ١٠ | N5: الحد الأدنى | O5: الحد الأوسط | P5: الحد الأعلى | Q5: أقل من الحد الأدنى للأجور؟
A6: 1 | B6: 13000 | C6: 0.03 | D6: =IF($B6="","",ROUND($B6*(1+$C6)^0,0)) | E6: =IF($B6="","",ROUND($B6*(1+$C6)^1,0)) | F6: =IF($B6="","",ROUND($B6*(1+$C6)^2,0)) | G6: =IF($B6="","",ROUND($B6*(1+$C6)^3,0)) | H6: =IF($B6="","",ROUND($B6*(1+$C6)^4,0)) | I6: =IF($B6="","",ROUND($B6*(1+$C6)^5,0)) | J6: =IF($B6="","",ROUND($B6*(1+$C6)^6,0)) | K6: =IF($B6="","",ROUND($B6*(1+$C6)^7,0)) | L6: =IF($B6="","",ROUND($B6*(1+$C6)^8,0)) | M6: =IF($B6="","",ROUND($B6*(1+$C6)^9,0)) | N6: =IF($B6="","",D6) | O6: =IF($B6="","",ROUND((N6+P6)/2,0)) | P6: =IF($B6="","",M6) | Q6: =IF(OR($D6="",$C$4=""),"",IF($D6<$C$4,"نعم","لا"))
A7: 2 | B7: 15000 | C7: 0.03 | D7: =IF($B7="","",ROUND($B7*(1+$C7)^0,0)) | E7: =IF($B7="","",ROUND($B7*(1+$C7)^1,0)) | F7: =IF($B7="","",ROUND($B7*(1+$C7)^2,0)) | G7: =IF($B7="","",ROUND($B7*(1+$C7)^3,0)) | H7: =IF($B7="","",ROUND($B7*(1+$C7)^4,0)) | I7: =IF($B7="","",ROUND($B7*(1+$C7)^5,0)) | J7: =IF($B7="","",ROUND($B7*(1+$C7)^6,0)) | K7: =IF($B7="","",ROUND($B7*(1+$C7)^7,0)) | L7: =IF($B7="","",ROUND($B7*(1+$C7)^8,0)) | M7: =IF($B7="","",ROUND($B7*(1+$C7)^9,0)) | N7: =IF($B7="","",D7) | O7: =IF($B7="","",ROUND((N7+P7)/2,0)) | P7: =IF($B7="","",M7) | Q7: =IF(OR($D7="",$C$4=""),"",IF($D7<$C$4,"نعم","لا"))
A8: 3 | B8: 17500 | C8: 0.03 | D8: =IF($B8="","",ROUND($B8*(1+$C8)^0,0)) | E8: =IF($B8="","",ROUND($B8*(1+$C8)^1,0)) | F8: =IF($B8="","",ROUND($B8*(1+$C8)^2,0)) | G8: =IF($B8="","",ROUND($B8*(1+$C8)^3,0)) | H8: =IF($B8="","",ROUND($B8*(1+$C8)^4,0)) | I8: =IF($B8="","",ROUND($B8*(1+$C8)^5,0)) | J8: =IF($B8="","",ROUND($B8*(1+$C8)^6,0)) | K8: =IF($B8="","",ROUND($B8*(1+$C8)^7,0)) | L8: =IF($B8="","",ROUND($B8*(1+$C8)^8,0)) | M8: =IF($B8="","",ROUND($B8*(1+$C8)^9,0)) | N8: =IF($B8="","",D8) | O8: =IF($B8="","",ROUND((N8+P8)/2,0)) | P8: =IF($B8="","",M8) | Q8: =IF(OR($D8="",$C$4=""),"",IF($D8<$C$4,"نعم","لا"))
A9: 4 | B9: 20500 | C9: 0.03 | D9: =IF($B9="","",ROUND($B9*(1+$C9)^0,0)) | E9: =IF($B9="","",ROUND($B9*(1+$C9)^1,0)) | F9: =IF($B9="","",ROUND($B9*(1+$C9)^2,0)) | G9: =IF($B9="","",ROUND($B9*(1+$C9)^3,0)) | H9: =IF($B9="","",ROUND($B9*(1+$C9)^4,0)) | I9: =IF($B9="","",ROUND($B9*(1+$C9)^5,0)) | J9: =IF($B9="","",ROUND($B9*(1+$C9)^6,0)) | K9: =IF($B9="","",ROUND($B9*(1+$C9)^7,0)) | L9: =IF($B9="","",ROUND($B9*(1+$C9)^8,0)) | M9: =IF($B9="","",ROUND($B9*(1+$C9)^9,0)) | N9: =IF($B9="","",D9) | O9: =IF($B9="","",ROUND((N9+P9)/2,0)) | P9: =IF($B9="","",M9) | Q9: =IF(OR($D9="",$C$4=""),"",IF($D9<$C$4,"نعم","لا"))
A10: 5 | B10: 24000 | C10: 0.03 | D10: =IF($B10="","",ROUND($B10*(1+$C10)^0,0)) | E10: =IF($B10="","",ROUND($B10*(1+$C10)^1,0)) | F10: =IF($B10="","",ROUND($B10*(1+$C10)^2,0)) | G10: =IF($B10="","",ROUND($B10*(1+$C10)^3,0)) | H10: =IF($B10="","",ROUND($B10*(1+$C10)^4,0)) | I10: =IF($B10="","",ROUND($B10*(1+$C10)^5,0)) | J10: =IF($B10="","",ROUND($B10*(1+$C10)^6,0)) | K10: =IF($B10="","",ROUND($B10*(1+$C10)^7,0)) | L10: =IF($B10="","",ROUND($B10*(1+$C10)^8,0)) | M10: =IF($B10="","",ROUND($B10*(1+$C10)^9,0)) | N10: =IF($B10="","",D10) | O10: =IF($B10="","",ROUND((N10+P10)/2,0)) | P10: =IF($B10="","",M10) | Q10: =IF(OR($D10="",$C$4=""),"",IF($D10<$C$4,"نعم","لا"))
A11: 6 | B11: 28000 | C11: 0.035 | D11: =IF($B11="","",ROUND($B11*(1+$C11)^0,0)) | E11: =IF($B11="","",ROUND($B11*(1+$C11)^1,0)) | F11: =IF($B11="","",ROUND($B11*(1+$C11)^2,0)) | G11: =IF($B11="","",ROUND($B11*(1+$C11)^3,0)) | H11: =IF($B11="","",ROUND($B11*(1+$C11)^4,0)) | I11: =IF($B11="","",ROUND($B11*(1+$C11)^5,0)) | J11: =IF($B11="","",ROUND($B11*(1+$C11)^6,0)) | K11: =IF($B11="","",ROUND($B11*(1+$C11)^7,0)) | L11: =IF($B11="","",ROUND($B11*(1+$C11)^8,0)) | M11: =IF($B11="","",ROUND($B11*(1+$C11)^9,0)) | N11: =IF($B11="","",D11) | O11: =IF($B11="","",ROUND((N11+P11)/2,0)) | P11: =IF($B11="","",M11) | Q11: =IF(OR($D11="",$C$4=""),"",IF($D11<$C$4,"نعم","لا"))
A12: 7 | B12: 33000 | C12: 0.035 | D12: =IF($B12="","",ROUND($B12*(1+$C12)^0,0)) | E12: =IF($B12="","",ROUND($B12*(1+$C12)^1,0)) | F12: =IF($B12="","",ROUND($B12*(1+$C12)^2,0)) | G12: =IF($B12="","",ROUND($B12*(1+$C12)^3,0)) | H12: =IF($B12="","",ROUND($B12*(1+$C12)^4,0)) | I12: =IF($B12="","",ROUND($B12*(1+$C12)^5,0)) | J12: =IF($B12="","",ROUND($B12*(1+$C12)^6,0)) | K12: =IF($B12="","",ROUND($B12*(1+$C12)^7,0)) | L12: =IF($B12="","",ROUND($B12*(1+$C12)^8,0)) | M12: =IF($B12="","",ROUND($B12*(1+$C12)^9,0)) | N12: =IF($B12="","",D12) | O12: =IF($B12="","",ROUND((N12+P12)/2,0)) | P12: =IF($B12="","",M12) | Q12: =IF(OR($D12="",$C$4=""),"",IF($D12<$C$4,"نعم","لا"))
A13: 8 | B13: 39000 | C13: 0.04 | D13: =IF($B13="","",ROUND($B13*(1+$C13)^0,0)) | E13: =IF($B13="","",ROUND($B13*(1+$C13)^1,0)) | F13: =IF($B13="","",ROUND($B13*(1+$C13)^2,0)) | G13: =IF($B13="","",ROUND($B13*(1+$C13)^3,0)) | H13: =IF($B13="","",ROUND($B13*(1+$C13)^4,0)) | I13: =IF($B13="","",ROUND($B13*(1+$C13)^5,0)) | J13: =IF($B13="","",ROUND($B13*(1+$C13)^6,0)) | K13: =IF($B13="","",ROUND($B13*(1+$C13)^7,0)) | L13: =IF($B13="","",ROUND($B13*(1+$C13)^8,0)) | M13: =IF($B13="","",ROUND($B13*(1+$C13)^9,0)) | N13: =IF($B13="","",D13) | O13: =IF($B13="","",ROUND((N13+P13)/2,0)) | P13: =IF($B13="","",M13) | Q13: =IF(OR($D13="",$C$4=""),"",IF($D13<$C$4,"نعم","لا"))
A14: 9 | B14: 46000 | C14: 0.04 | D14: =IF($B14="","",ROUND($B14*(1+$C14)^0,0)) | E14: =IF($B14="","",ROUND($B14*(1+$C14)^1,0)) | F14: =IF($B14="","",ROUND($B14*(1+$C14)^2,0)) | G14: =IF($B14="","",ROUND($B14*(1+$C14)^3,0)) | H14: =IF($B14="","",ROUND($B14*(1+$C14)^4,0)) | I14: =IF($B14="","",ROUND($B14*(1+$C14)^5,0)) | J14: =IF($B14="","",ROUND($B14*(1+$C14)^6,0)) | K14: =IF($B14="","",ROUND($B14*(1+$C14)^7,0)) | L14: =IF($B14="","",ROUND($B14*(1+$C14)^8,0)) | M14: =IF($B14="","",ROUND($B14*(1+$C14)^9,0)) | N14: =IF($B14="","",D14) | O14: =IF($B14="","",ROUND((N14+P14)/2,0)) | P14: =IF($B14="","",M14) | Q14: =IF(OR($D14="",$C$4=""),"",IF($D14<$C$4,"نعم","لا"))
A15: 10 | B15: 55000 | C15: 0.04 | D15: =IF($B15="","",ROUND($B15*(1+$C15)^0,0)) | E15: =IF($B15="","",ROUND($B15*(1+$C15)^1,0)) | F15: =IF($B15="","",ROUND($B15*(1+$C15)^2,0)) | G15: =IF($B15="","",ROUND($B15*(1+$C15)^3,0)) | H15: =IF($B15="","",ROUND($B15*(1+$C15)^4,0)) | I15: =IF($B15="","",ROUND($B15*(1+$C15)^5,0)) | J15: =IF($B15="","",ROUND($B15*(1+$C15)^6,0)) | K15: =IF($B15="","",ROUND($B15*(1+$C15)^7,0)) | L15: =IF($B15="","",ROUND($B15*(1+$C15)^8,0)) | M15: =IF($B15="","",ROUND($B15*(1+$C15)^9,0)) | N15: =IF($B15="","",D15) | O15: =IF($B15="","",ROUND((N15+P15)/2,0)) | P15: =IF($B15="","",M15) | Q15: =IF(OR($D15="",$C$4=""),"",IF($D15<$C$4,"نعم","لا"))

Sheet الوظائف
A1: الوظائف ودرجاتها
A2: اكتب المسمى الوظيفي واختر درجته من ١ إلى ١٠. نطاق الراتب يُحسب من ورقة «الدرجات». المسميات أمثلة فقط.
A5: المسمى الوظيفي | B5: الدرجة | C5: نطاق الراتب: من | D5: نطاق الراتب: إلى
A6: عامل خدمات | B6: 1 | C6: =IF($B6="","",INDEX('الدرجات'!$N$6:$N$15,MATCH($B6,'الدرجات'!$A$6:$A$15,0))) | D6: =IF($B6="","",INDEX('الدرجات'!$P$6:$P$15,MATCH($B6,'الدرجات'!$A$6:$A$15,0)))
A7: سائق | B7: 2 | C7: =IF($B7="","",INDEX('الدرجات'!$N$6:$N$15,MATCH($B7,'الدرجات'!$A$6:$A$15,0))) | D7: =IF($B7="","",INDEX('الدرجات'!$P$6:$P$15,MATCH($B7,'الدرجات'!$A$6:$A$15,0)))
A8: موظف استقبال | B8: 3 | C8: =IF($B8="","",INDEX('الدرجات'!$N$6:$N$15,MATCH($B8,'الدرجات'!$A$6:$A$15,0))) | D8: =IF($B8="","",INDEX('الدرجات'!$P$6:$P$15,MATCH($B8,'الدرجات'!$A$6:$A$15,0)))
A9: أمين مستودع | B9: 4 | C9: =IF($B9="","",INDEX('الدرجات'!$N$6:$N$15,MATCH($B9,'الدرجات'!$A$6:$A$15,0))) | D9: =IF($B9="","",INDEX('الدرجات'!$P$6:$P$15,MATCH($B9,'الدرجات'!$A$6:$A$15,0)))
A10: محاسب | B10: 5 | C10: =IF($B10="","",INDEX('الدرجات'!$N$6:$N$15,MATCH($B10,'الدرجات'!$A$6:$A$15,0))) | D10: =IF($B10="","",INDEX('الدرجات'!$P$6:$P$15,MATCH($B10,'الدرجات'!$A$6:$A$15,0)))
A11: مسؤول مبيعات | B11: 5 | C11: =IF($B11="","",INDEX('الدرجات'!$N$6:$N$15,MATCH($B11,'الدرجات'!$A$6:$A$15,0))) | D11: =IF($B11="","",INDEX('الدرجات'!$P$6:$P$15,MATCH($B11,'الدرجات'!$A$6:$A$15,0)))
A12: مهندس | B12: 6 | C12: =IF($B12="","",INDEX('الدرجات'!$N$6:$N$15,MATCH($B12,'الدرجات'!$A$6:$A$15,0))) | D12: =IF($B12="","",INDEX('الدرجات'!$P$6:$P$15,MATCH($B12,'الدرجات'!$A$6:$A$15,0)))
A13: محاسب أول | B13: 7 | C13: =IF($B13="","",INDEX('الدرجات'!$N$6:$N$15,MATCH($B13,'الدرجات'!$A$6:$A$15,0))) | D13: =IF($B13="","",INDEX('الدرجات'!$P$6:$P$15,MATCH($B13,'الدرجات'!$A$6:$A$15,0)))
A14: مدير قسم | B14: 8 | C14: =IF($B14="","",INDEX('الدرجات'!$N$6:$N$15,MATCH($B14,'الدرجات'!$A$6:$A$15,0))) | D14: =IF($B14="","",INDEX('الدرجات'!$P$6:$P$15,MATCH($B14,'الدرجات'!$A$6:$A$15,0)))
A15: مدير مالي | B15: 9 | C15: =IF($B15="","",INDEX('الدرجات'!$N$6:$N$15,MATCH($B15,'الدرجات'!$A$6:$A$15,0))) | D15: =IF($B15="","",INDEX('الدرجات'!$P$6:$P$15,MATCH($B15,'الدرجات'!$A$6:$A$15,0)))
A16: مدير عام | B16: 10 | C16: =IF($B16="","",INDEX('الدرجات'!$N$6:$N$15,MATCH($B16,'الدرجات'!$A$6:$A$15,0))) | D16: =IF($B16="","",INDEX('الدرجات'!$P$6:$P$15,MATCH($B16,'الدرجات'!$A$6:$A$15,0)))
C17: =IF($B17="","",INDEX('الدرجات'!$N$6:$N$15,MATCH($B17,'الدرجات'!$A$6:$A$15,0))) | D17: =IF($B17="","",INDEX('الدرجات'!$P$6:$P$15,MATCH($B17,'الدرجات'!$A$6:$A$15,0)))
C18: =IF($B18="","",INDEX('الدرجات'!$N$6:$N$15,MATCH($B18,'الدرجات'!$A$6:$A$15,0))) | D18: =IF($B18="","",INDEX('الدرجات'!$P$6:$P$15,MATCH($B18,'الدرجات'!$A$6:$A$15,0)))
C19: =IF($B19="","",INDEX('الدرجات'!$N$6:$N$15,MATCH($B19,'الدرجات'!$A$6:$A$15,0))) | D19: =IF($B19="","",INDEX('الدرجات'!$P$6:$P$15,MATCH($B19,'الدرجات'!$A$6:$A$15,0)))
C20: =IF($B20="","",INDEX('الدرجات'!$N$6:$N$15,MATCH($B20,'الدرجات'!$A$6:$A$15,0))) | D20: =IF($B20="","",INDEX('الدرجات'!$P$6:$P$15,MATCH($B20,'الدرجات'!$A$6:$A$15,0)))
C21: =IF($B21="","",INDEX('الدرجات'!$N$6:$N$15,MATCH($B21,'الدرجات'!$A$6:$A$15,0))) | D21: =IF($B21="","",INDEX('الدرجات'!$P$6:$P$15,MATCH($B21,'الدرجات'!$A$6:$A$15,0)))
C22: =IF($B22="","",INDEX('الدرجات'!$N$6:$N$15,MATCH($B22,'الدرجات'!$A$6:$A$15,0))) | D22: =IF($B22="","",INDEX('الدرجات'!$P$6:$P$15,MATCH($B22,'الدرجات'!$A$6:$A$15,0)))
C23: =IF($B23="","",INDEX('الدرجات'!$N$6:$N$15,MATCH($B23,'الدرجات'!$A$6:$A$15,0))) | D23: =IF($B23="","",INDEX('الدرجات'!$P$6:$P$15,MATCH($B23,'الدرجات'!$A$6:$A$15,0)))
C24: =IF($B24="","",INDEX('الدرجات'!$N$6:$N$15,MATCH($B24,'الدرجات'!$A$6:$A$15,0))) | D24: =IF($B24="","",INDEX('الدرجات'!$P$6:$P$15,MATCH($B24,'الدرجات'!$A$6:$A$15,0)))
C25: =IF($B25="","",INDEX('الدرجات'!$N$6:$N$15,MATCH($B25,'الدرجات'!$A$6:$A$15,0))) | D25: =IF($B25="","",INDEX('الدرجات'!$P$6:$P$15,MATCH($B25,'الدرجات'!$A$6:$A$15,0)))
C26: =IF($B26="","",INDEX('الدرجات'!$N$6:$N$15,MATCH($B26,'الدرجات'!$A$6:$A$15,0))) | D26: =IF($B26="","",INDEX('الدرجات'!$P$6:$P$15,MATCH($B26,'الدرجات'!$A$6:$A$15,0)))
C27: =IF($B27="","",INDEX('الدرجات'!$N$6:$N$15,MATCH($B27,'الدرجات'!$A$6:$A$15,0))) | D27: =IF($B27="","",INDEX('الدرجات'!$P$6:$P$15,MATCH($B27,'الدرجات'!$A$6:$A$15,0)))
C28: =IF($B28="","",INDEX('الدرجات'!$N$6:$N$15,MATCH($B28,'الدرجات'!$A$6:$A$15,0))) | D28: =IF($B28="","",INDEX('الدرجات'!$P$6:$P$15,MATCH($B28,'الدرجات'!$A$6:$A$15,0)))
... C45: =IF($B45="","",INDEX('الدرجات'!$N$6:$N$15,MATCH($B45,'الدرجات'!$A$6:$A$15,0))) | D45: =IF($B45="","",INDEX('الدرجات'!$P$6:$P$15,MATCH($B45,'الدرجات'!$A$6:$A$15,0)))

Sheet الموظفون
A1: الموظفون على سلم الرواتب
A2: اكتب اسم الموظف واختر مسمّاه الوظيفي ومرحلته، وأدخل راتبه الحالي. الدرجة وراتب السلم والتنبيه تُحسب بمعادلات. الأسماء والمبالغ أمثلة فقط.
A5: الموظف | B5: المسمى الوظيفي | C5: الدرجة | D5: المرحلة | E5: الراتب حسب السلم | F5: الراتب الحالي | G5: الحد الأدنى للدرجة | H5: الحد الأعلى للدرجة | I5: الفرق عن السلم | J5: التنبيه
A6: موظف تجريبي ١ | B6: محاسب | C6: =IF($B6="","",IFERROR(VLOOKUP($B6,'الوظائف'!$A$6:$B$45,2,FALSE),"?")) | D6: 3 | E6: =IF(OR($C6="",$C6="?",$D6=""),"",INDEX('الدرجات'!$D$6:$M$15,MATCH($C6,'الدرجات'!$A$6:$A$15,0),$D6)) | F6: 25500 | G6: =IF(OR($C6="",$C6="?"),"",INDEX('الدرجات'!$N$6:$N$15,MATCH($C6,'الدرجات'!$A$6:$A$15,0))) | H6: =IF(OR($C6="",$C6="?"),"",INDEX('الدرجات'!$P$6:$P$15,MATCH($C6,'الدرجات'!$A$6:$A$15,0))) | I6: =IF(OR($E6="",$F6=""),"",$F6-$E6) | J6: =IF($B6="","",IF($C6="?","المسمى غير موجود في «الوظائف»",IF($F6="","",IF($F6<$G6,"أقل من الحد الأدنى للدرجة",IF($F6>$H6,"أعلى من الحد الأعلى للدرجة","ضمن نطاق الدرجة")))))
A7: موظف تجريبي ٢ | B7: سائق | C7: =IF($B7="","",IFERROR(VLOOKUP($B7,'الوظائف'!$A$6:$B$45,2,FALSE),"?")) | D7: 1 | E7: =IF(OR($C7="",$C7="?",$D7=""),"",INDEX('الدرجات'!$D$6:$M$15,MATCH($C7,'الدرجات'!$A$6:$A$15,0),$D7)) | F7: 15000 | G7: =IF(OR($C7="",$C7="?"),"",INDEX('الدرجات'!$N$6:$N$15,MATCH($C7,'الدرجات'!$A$6:$A$15,0))) | H7: =IF(OR($C7="",$C7="?"),"",INDEX('الدرجات'!$P$6:$P$15,MATCH($C7,'الدرجات'!$A$6:$A$15,0))) | I7: =IF(OR($E7="",$F7=""),"",$F7-$E7) | J7: =IF($B7="","",IF($C7="?","المسمى غير موجود في «الوظائف»",IF($F7="","",IF($F7<$G7,"أقل من الحد الأدنى للدرجة",IF($F7>$H7,"أعلى من الحد الأعلى للدرجة","ضمن نطاق الدرجة")))))
A8: موظف تجريبي ٣ | B8: مهندس | C8: =IF($B8="","",IFERROR(VLOOKUP($B8,'الوظائف'!$A$6:$B$45,2,FALSE),"?")) | D8: 5 | E8: =IF(OR($C8="",$C8="?",$D8=""),"",INDEX('الدرجات'!$D$6:$M$15,MATCH($C8,'الدرجات'!$A$6:$A$15,0),$D8)) | F8: 31500 | G8: =IF(OR($C8="",$C8="?"),"",INDEX('الدرجات'!$N$6:$N$15,MATCH($C8,'الدرجات'!$A$6:$A$15,0))) | H8: =IF(OR($C8="",$C8="?"),"",INDEX('الدرجات'!$P$6:$P$15,MATCH($C8,'الدرجات'!$A$6:$A$15,0))) | I8: =IF(OR($E8="",$F8=""),"",$F8-$E8) | J8: =IF($B8="","",IF($C8="?","المسمى غير موجود في «الوظائف»",IF($F8="","",IF($F8<$G8,"أقل من الحد الأدنى للدرجة",IF($F8>$H8,"أعلى من الحد الأعلى للدرجة","ضمن نطاق الدرجة")))))
A9: موظف تجريبي ٤ | B9: موظف استقبال | C9: =IF($B9="","",IFERROR(VLOOKUP($B9,'الوظائف'!$A$6:$B$45,2,FALSE),"?")) | D9: 2 | E9: =IF(OR($C9="",$C9="?",$D9=""),"",INDEX('الدرجات'!$D$6:$M$15,MATCH($C9,'الدرجات'!$A$6:$A$15,0),$D9)) | F9: 16500 | G9: =IF(OR($C9="",$C9="?"),"",INDEX('الدرجات'!$N$6:$N$15,MATCH($C9,'الدرجات'!$A$6:$A$15,0))) | H9: =IF(OR($C9="",$C9="?"),"",INDEX('الدرجات'!$P$6:$P$15,MATCH($C9,'الدرجات'!$A$6:$A$15,0))) | I9: =IF(OR($E9="",$F9=""),"",$F9-$E9) | J9: =IF($B9="","",IF($C9="?","المسمى غير موجود في «الوظائف»",IF($F9="","",IF($F9<$G9,"أقل من الحد الأدنى للدرجة",IF($F9>$H9,"أعلى من الحد الأعلى للدرجة","ضمن نطاق الدرجة")))))
A10: موظف تجريبي ٥ | B10: مدير قسم | C10: =IF($B10="","",IFERROR(VLOOKUP($B10,'الوظائف'!$A$6:$B$45,2,FALSE),"?")) | D10: 4 | E10: =IF(OR($C10="",$C10="?",$D10=""),"",INDEX('الدرجات'!$D$6:$M$15,MATCH($C10,'الدرجات'!$A$6:$A$15,0),$D10)) | F10: 52000 | G10: =IF(OR($C10="",$C10="?"),"",INDEX('الدرجات'!$N$6:$N$15,MATCH($C10,'الدرجات'!$A$6:$A$15,0))) | H10: =IF(OR($C10="",$C10="?"),"",INDEX('الدرجات'!$P$6:$P$15,MATCH($C10,'الدرجات'!$A$6:$A$15,0))) | I10: =IF(OR($E10="",$F10=""),"",$F10-$E10) | J10: =IF($B10="","",IF($C10="?","المسمى غير موجود في «الوظائف»",IF($F10="","",IF($F10<$G10,"أقل من الحد الأدنى للدرجة",IF($F10>$H10,"أعلى من الحد الأعلى للدرجة","ضمن نطاق الدرجة")))))
A11: موظف تجريبي ٦ | B11: مسؤول مبيعات | C11: =IF($B11="","",IFERROR(VLOOKUP($B11,'الوظائف'!$A$6:$B$45,2,FALSE),"?")) | D11: 2 | E11: =IF(OR($C11="",$C11="?",$D11=""),"",INDEX('الدرجات'!$D$6:$M$15,MATCH($C11,'الدرجات'!$A$6:$A$15,0),$D11)) | F11: 33000 | G11: =IF(OR($C11="",$C11="?"),"",INDEX('الدرجات'!$N$6:$N$15,MATCH($C11,'الدرجات'!$A$6:$A$15,0))) | H11: =IF(OR($C11="",$C11="?"),"",INDEX('الدرجات'!$P$6:$P$15,MATCH($C11,'الدرجات'!$A$6:$A$15,0))) | I11: =IF(OR($E11="",$F11=""),"",$F11-$E11) | J11: =IF($B11="","",IF($C11="?","المسمى غير موجود في «الوظائف»",IF($F11="","",IF($F11<$G11,"أقل من الحد الأدنى للدرجة",IF($F11>$H11,"أعلى من الحد الأعلى للدرجة","ضمن نطاق الدرجة")))))
C12: =IF($B12="","",IFERROR(VLOOKUP($B12,'الوظائف'!$A$6:$B$45,2,FALSE),"?")) | E12: =IF(OR($C12="",$C12="?",$D12=""),"",INDEX('الدرجات'!$D$6:$M$15,MATCH($C12,'الدرجات'!$A$6:$A$15,0),$D12)) | G12: =IF(OR($C12="",$C12="?"),"",INDEX('الدرجات'!$N$6:$N$15,MATCH($C12,'الدرجات'!$A$6:$A$15,0))) | H12: =IF(OR($C12="",$C12="?"),"",INDEX('الدرجات'!$P$6:$P$15,MATCH($C12,'الدرجات'!$A$6:$A$15,0))) | I12: =IF(OR($E12="",$F12=""),"",$F12-$E12) | J12: =IF($B12="","",IF($C12="?","المسمى غير موجود في «الوظائف»",IF($F12="","",IF($F12<$G12,"أقل من الحد الأدنى للدرجة",IF($F12>$H12,"أعلى من الحد الأعلى للدرجة","ضمن نطاق الدرجة")))))
C13: =IF($B13="","",IFERROR(VLOOKUP($B13,'الوظائف'!$A$6:$B$45,2,FALSE),"?")) | E13: =IF(OR($C13="",$C13="?",$D13=""),"",INDEX('الدرجات'!$D$6:$M$15,MATCH($C13,'الدرجات'!$A$6:$A$15,0),$D13)) | G13: =IF(OR($C13="",$C13="?"),"",INDEX('الدرجات'!$N$6:$N$15,MATCH($C13,'الدرجات'!$A$6:$A$15,0))) | H13: =IF(OR($C13="",$C13="?"),"",INDEX('الدرجات'!$P$6:$P$15,MATCH($C13,'الدرجات'!$A$6:$A$15,0))) | I13: =IF(OR($E13="",$F13=""),"",$F13-$E13) | J13: =IF($B13="","",IF($C13="?","المسمى غير موجود في «الوظائف»",IF($F13="","",IF($F13<$G13,"أقل من الحد الأدنى للدرجة",IF($F13>$H13,"أعلى من الحد الأعلى للدرجة","ضمن نطاق الدرجة")))))
C14: =IF($B14="","",IFERROR(VLOOKUP($B14,'الوظائف'!$A$6:$B$45,2,FALSE),"?")) | E14: =IF(OR($C14="",$C14="?",$D14=""),"",INDEX('الدرجات'!$D$6:$M$15,MATCH($C14,'الدرجات'!$A$6:$A$15,0),$D14)) | G14: =IF(OR($C14="",$C14="?"),"",INDEX('الدرجات'!$N$6:$N$15,MATCH($C14,'الدرجات'!$A$6:$A$15,0))) | H14: =IF(OR($C14="",$C14="?"),"",INDEX('الدرجات'!$P$6:$P$15,MATCH($C14,'الدرجات'!$A$6:$A$15,0))) | I14: =IF(OR($E14="",$F14=""),"",$F14-$E14) | J14: =IF($B14="","",IF($C14="?","المسمى غير موجود في «الوظائف»",IF($F14="","",IF($F14<$G14,"أقل من الحد الأدنى للدرجة",IF($F14>$H14,"أعلى من الحد الأعلى للدرجة","ضمن نطاق الدرجة")))))
C15: =IF($B15="","",IFERROR(VLOOKUP($B15,'الوظائف'!$A$6:$B$45,2,FALSE),"?")) | E15: =IF(OR($C15="",$C15="?",$D15=""),"",INDEX('الدرجات'!$D$6:$M$15,MATCH($C15,'الدرجات'!$A$6:$A$15,0),$D15)) | G15: =IF(OR($C15="",$C15="?"),"",INDEX('الدرجات'!$N$6:$N$15,MATCH($C15,'الدرجات'!$A$6:$A$15,0))) | H15: =IF(OR($C15="",$C15="?"),"",INDEX('الدرجات'!$P$6:$P$15,MATCH($C15,'الدرجات'!$A$6:$A$15,0))) | I15: =IF(OR($E15="",$F15=""),"",$F15-$E15) | J15: =IF($B15="","",IF($C15="?","المسمى غير موجود في «الوظائف»",IF($F15="","",IF($F15<$G15,"أقل من الحد الأدنى للدرجة",IF($F15>$H15,"أعلى من الحد الأعلى للدرجة","ضمن نطاق الدرجة")))))
C16: =IF($B16="","",IFERROR(VLOOKUP($B16,'الوظائف'!$A$6:$B$45,2,FALSE),"?")) | E16: =IF(OR($C16="",$C16="?",$D16=""),"",INDEX('الدرجات'!$D$6:$M$15,MATCH($C16,'الدرجات'!$A$6:$A$15,0),$D16)) | G16: =IF(OR($C16="",$C16="?"),"",INDEX('الدرجات'!$N$6:$N$15,MATCH($C16,'الدرجات'!$A$6:$A$15,0))) | H16: =IF(OR($C16="",$C16="?"),"",INDEX('الدرجات'!$P$6:$P$15,MATCH($C16,'الدرجات'!$A$6:$A$15,0))) | I16: =IF(OR($E16="",$F16=""),"",$F16-$E16) | J16: =IF($B16="","",IF($C16="?","المسمى غير موجود في «الوظائف»",IF($F16="","",IF($F16<$G16,"أقل من الحد الأدنى للدرجة",IF($F16>$H16,"أعلى من الحد الأعلى للدرجة","ضمن نطاق الدرجة")))))
C17: =IF($B17="","",IFERROR(VLOOKUP($B17,'الوظائف'!$A$6:$B$45,2,FALSE),"?")) | E17: =IF(OR($C17="",$C17="?",$D17=""),"",INDEX('الدرجات'!$D$6:$M$15,MATCH($C17,'الدرجات'!$A$6:$A$15,0),$D17)) | G17: =IF(OR($C17="",$C17="?"),"",INDEX('الدرجات'!$N$6:$N$15,MATCH($C17,'الدرجات'!$A$6:$A$15,0))) | H17: =IF(OR($C17="",$C17="?"),"",INDEX('الدرجات'!$P$6:$P$15,MATCH($C17,'الدرجات'!$A$6:$A$15,0))) | I17: =IF(OR($E17="",$F17=""),"",$F17-$E17) | J17: =IF($B17="","",IF($C17="?","المسمى غير موجود في «الوظائف»",IF($F17="","",IF($F17<$G17,"أقل من الحد الأدنى للدرجة",IF($F17>$H17,"أعلى من الحد الأعلى للدرجة","ضمن نطاق الدرجة")))))
C18: =IF($B18="","",IFERROR(VLOOKUP($B18,'الوظائف'!$A$6:$B$45,2,FALSE),"?")) | E18: =IF(OR($C18="",$C18="?",$D18=""),"",INDEX('الدرجات'!$D$6:$M$15,MATCH($C18,'الدرجات'!$A$6:$A$15,0),$D18)) | G18: =IF(OR($C18="",$C18="?"),"",INDEX('الدرجات'!$N$6:$N$15,MATCH($C18,'الدرجات'!$A$6:$A$15,0))) | H18: =IF(OR($C18="",$C18="?"),"",INDEX('الدرجات'!$P$6:$P$15,MATCH($C18,'الدرجات'!$A$6:$A$15,0))) | I18: =IF(OR($E18="",$F18=""),"",$F18-$E18) | J18: =IF($B18="","",IF($C18="?","المسمى غير موجود في «الوظائف»",IF($F18="","",IF($F18<$G18,"أقل من الحد الأدنى للدرجة",IF($F18>$H18,"أعلى من الحد الأعلى للدرجة","ضمن نطاق الدرجة")))))
C19: =IF($B19="","",IFERROR(VLOOKUP($B19,'الوظائف'!$A$6:$B$45,2,FALSE),"?")) | E19: =IF(OR($C19="",$C19="?",$D19=""),"",INDEX('الدرجات'!$D$6:$M$15,MATCH($C19,'الدرجات'!$A$6:$A$15,0),$D19)) | G19: =IF(OR($C19="",$C19="?"),"",INDEX('الدرجات'!$N$6:$N$15,MATCH($C19,'الدرجات'!$A$6:$A$15,0))) | H19: =IF(OR($C19="",$C19="?"),"",INDEX('الدرجات'!$P$6:$P$15,MATCH($C19,'الدرجات'!$A$6:$A$15,0))) | I19: =IF(OR($E19="",$F19=""),"",$F19-$E19) | J19: =IF($B19="","",IF($C19="?","المسمى غير موجود في «الوظائف»",IF($F19="","",IF($F19<$G19,"أقل من الحد الأدنى للدرجة",IF($F19>$H19,"أعلى من الحد الأعلى للدرجة","ضمن نطاق الدرجة")))))
C20: =IF($B20="","",IFERROR(VLOOKUP($B20,'الوظائف'!$A$6:$B$45,2,FALSE),"?")) | E20: =IF(OR($C20="",$C20="?",$D20=""),"",INDEX('الدرجات'!$D$6:$M$15,MATCH($C20,'الدرجات'!$A$6:$A$15,0),$D20)) | G20: =IF(OR($C20="",$C20="?"),"",INDEX('الدرجات'!$N$6:$N$15,MATCH($C20,'الدرجات'!$A$6:$A$15,0))) | H20: =IF(OR($C20="",$C20="?"),"",INDEX('الدرجات'!$P$6:$P$15,MATCH($C20,'الدرجات'!$A$6:$A$15,0))) | I20: =IF(OR($E20="",$F20=""),"",$F20-$E20) | J20: =IF($B20="","",IF($C20="?","المسمى غير موجود في «الوظائف»",IF($F20="","",IF($F20<$G20,"أقل من الحد الأدنى للدرجة",IF($F20>$H20,"أعلى من الحد الأعلى للدرجة","ضمن نطاق الدرجة")))))
C21: =IF($B21="","",IFERROR(VLOOKUP($B21,'الوظائف'!$A$6:$B$45,2,FALSE),"?")) | E21: =IF(OR($C21="",$C21="?",$D21=""),"",INDEX('الدرجات'!$D$6:$M$15,MATCH($C21,'الدرجات'!$A$6:$A$15,0),$D21)) | G21: =IF(OR($C21="",$C21="?"),"",INDEX('الدرجات'!$N$6:$N$15,MATCH($C21,'الدرجات'!$A$6:$A$15,0))) | H21: =IF(OR($C21="",$C21="?"),"",INDEX('الدرجات'!$P$6:$P$15,MATCH($C21,'الدرجات'!$A$6:$A$15,0))) | I21: =IF(OR($E21="",$F21=""),"",$F21-$E21) | J21: =IF($B21="","",IF($C21="?","المسمى غير موجود في «الوظائف»",IF($F21="","",IF($F21<$G21,"أقل من الحد الأدنى للدرجة",IF($F21>$H21,"أعلى من الحد الأعلى للدرجة","ضمن نطاق الدرجة")))))
C22: =IF($B22="","",IFERROR(VLOOKUP($B22,'الوظائف'!$A$6:$B$45,2,FALSE),"?")) | E22: =IF(OR($C22="",$C22="?",$D22=""),"",INDEX('الدرجات'!$D$6:$M$15,MATCH($C22,'الدرجات'!$A$6:$A$15,0),$D22)) | G22: =IF(OR($C22="",$C22="?"),"",INDEX('الدرجات'!$N$6:$N$15,MATCH($C22,'الدرجات'!$A$6:$A$15,0))) | H22: =IF(OR($C22="",$C22="?"),"",INDEX('الدرجات'!$P$6:$P$15,MATCH($C22,'الدرجات'!$A$6:$A$15,0))) | I22: =IF(OR($E22="",$F22=""),"",$F22-$E22) | J22: =IF($B22="","",IF($C22="?","المسمى غير موجود في «الوظائف»",IF($F22="","",IF($F22<$G22,"أقل من الحد الأدنى للدرجة",IF($F22>$H22,"أعلى من الحد الأعلى للدرجة","ضمن نطاق الدرجة")))))
C23: =IF($B23="","",IFERROR(VLOOKUP($B23,'الوظائف'!$A$6:$B$45,2,FALSE),"?")) | E23: =IF(OR($C23="",$C23="?",$D23=""),"",INDEX('الدرجات'!$D$6:$M$15,MATCH($C23,'الدرجات'!$A$6:$A$15,0),$D23)) | G23: =IF(OR($C23="",$C23="?"),"",INDEX('الدرجات'!$N$6:$N$15,MATCH($C23,'الدرجات'!$A$6:$A$15,0))) | H23: =IF(OR($C23="",$C23="?"),"",INDEX('الدرجات'!$P$6:$P$15,MATCH($C23,'الدرجات'!$A$6:$A$15,0))) | I23: =IF(OR($E23="",$F23=""),"",$F23-$E23) | J23: =IF($B23="","",IF($C23="?","المسمى غير موجود في «الوظائف»",IF($F23="","",IF($F23<$G23,"أقل من الحد الأدنى للدرجة",IF($F23>$H23,"أعلى من الحد الأعلى للدرجة","ضمن نطاق الدرجة")))))
... C55: =IF($B55="","",IFERROR(VLOOKUP($B55,'الوظائف'!$A$6:$B$45,2,FALSE),"?")) | E55: =IF(OR($C55="",$C55="?",$D55=""),"",INDEX('الدرجات'!$D$6:$M$15,MATCH($C55,'الدرجات'!$A$6:$A$15,0),$D55)) | G55: =IF(OR($C55="",$C55="?"),"",INDEX('الدرجات'!$N$6:$N$15,MATCH($C55,'الدرجات'!$A$6:$A$15,0))) | H55: =IF(OR($C55="",$C55="?"),"",INDEX('الدرجات'!$P$6:$P$15,MATCH($C55,'الدرجات'!$A$6:$A$15,0))) | I55: =IF(OR($E55="",$F55=""),"",$F55-$E55) | J55: =IF($B55="","",IF($C55="?","المسمى غير موجود في «الوظائف»",IF($F55="","",IF($F55<$G55,"أقل من الحد الأدنى للدرجة",IF($F55>$H55,"أعلى من الحد الأعلى للدرجة","ضمن نطاق الدرجة")))))

Sheet طريقة الاستخدام
A1: نموذج سلم الرواتب المجاني من ديوان
A2: نموذج بسيط لبناء سلم رواتب لشركة في سوريا: عشر درجات، ولكل درجة عشر مراحل تزيد بنسبة العلاوة السنوية.
A4: طريقة الاستخدام:
A5: ١. في ورقة «الدرجات»، أدخل لكل درجة راتبها الابتدائي ونسبة علاوتها السنوية. تُحسب المراحل والحدود الثلاثة تلقائياً.
A6: ٢. في ورقة «الوظائف»، اكتب مسميات الوظائف في شركتك واختر لكل منها درجة.
A7: ٣. في ورقة «الموظفون»، اكتب اسم كل موظف، واختر مسمّاه ومرحلته، وأدخل راتبه الحالي.
A8: ٤. راجع عمود «التنبيه»: يظهر باللون الأحمر كل راتب خارج نطاق درجته.
A10: ملاحظات:
A11: • كل المبالغ والمسميات والأسماء في الملف أمثلة للتوضيح فقط، فاستبدلها بأرقام شركتك.
A12: • المرحلة ١ هي الراتب الابتدائي، وكل مرحلة تالية = المرحلة السابقة × (١ + نسبة العلاوة)، مقرّبة لأقرب ليرة.
A13: • تأكّد أن أدنى راتب في السلم لا يقل عن الحد الأدنى للأجور النافذ (١٢٬٥٦٠ ليرة جديدة شهرياً وفق المرسوم ٦٧ لعام ٢٠٢٦). عمود «أقل من الحد الأدنى للأجور؟» في ورقة «الدرجات» يقارن المرحلة ١ بهذا الحد، فإن تغيّر الحد فحدّثه في الخلية C4.
A14: • الرواتب هنا إجمالية، قبل اشتراك التأمينات وضريبة الرواتب.
A16: هذا النموذج للمعلومات العامة، ولا يُعدّ استشارة قانونية أو ضريبية. diwanhr.com
