Workbook

Sheet Grades
A1: Salary scale: grades and steps
A2: Monthly amounts in new Syrian pounds. They are examples only: replace them with your company’s figures. Yellow cells are inputs; the rest are formulas.
A4: Monthly minimum wage (Decree 67 of 2026) | C4: 12560
A5: Grade | B5: Starting salary (example) | C5: Yearly step % (example) | D5: Step 1 | E5: Step 2 | F5: Step 3 | G5: Step 4 | H5: Step 5 | I5: Step 6 | J5: Step 7 | K5: Step 8 | L5: Step 9 | M5: Step 10 | N5: Minimum | O5: Midpoint | P5: Maximum | Q5: Below minimum wage?
A6: 1 | B6: 13000 | C6: 0.03 | D6: =IF($B6="","",ROUND($B6*(1+$C6)^0,0)) | E6: =IF($B6="","",ROUND($B6*(1+$C6)^1,0)) | F6: =IF($B6="","",ROUND($B6*(1+$C6)^2,0)) | G6: =IF($B6="","",ROUND($B6*(1+$C6)^3,0)) | H6: =IF($B6="","",ROUND($B6*(1+$C6)^4,0)) | I6: =IF($B6="","",ROUND($B6*(1+$C6)^5,0)) | J6: =IF($B6="","",ROUND($B6*(1+$C6)^6,0)) | K6: =IF($B6="","",ROUND($B6*(1+$C6)^7,0)) | L6: =IF($B6="","",ROUND($B6*(1+$C6)^8,0)) | M6: =IF($B6="","",ROUND($B6*(1+$C6)^9,0)) | N6: =IF($B6="","",D6) | O6: =IF($B6="","",ROUND((N6+P6)/2,0)) | P6: =IF($B6="","",M6) | Q6: =IF(OR($D6="",$C$4=""),"",IF($D6<$C$4,"Yes","No"))
A7: 2 | B7: 15000 | C7: 0.03 | D7: =IF($B7="","",ROUND($B7*(1+$C7)^0,0)) | E7: =IF($B7="","",ROUND($B7*(1+$C7)^1,0)) | F7: =IF($B7="","",ROUND($B7*(1+$C7)^2,0)) | G7: =IF($B7="","",ROUND($B7*(1+$C7)^3,0)) | H7: =IF($B7="","",ROUND($B7*(1+$C7)^4,0)) | I7: =IF($B7="","",ROUND($B7*(1+$C7)^5,0)) | J7: =IF($B7="","",ROUND($B7*(1+$C7)^6,0)) | K7: =IF($B7="","",ROUND($B7*(1+$C7)^7,0)) | L7: =IF($B7="","",ROUND($B7*(1+$C7)^8,0)) | M7: =IF($B7="","",ROUND($B7*(1+$C7)^9,0)) | N7: =IF($B7="","",D7) | O7: =IF($B7="","",ROUND((N7+P7)/2,0)) | P7: =IF($B7="","",M7) | Q7: =IF(OR($D7="",$C$4=""),"",IF($D7<$C$4,"Yes","No"))
A8: 3 | B8: 17500 | C8: 0.03 | D8: =IF($B8="","",ROUND($B8*(1+$C8)^0,0)) | E8: =IF($B8="","",ROUND($B8*(1+$C8)^1,0)) | F8: =IF($B8="","",ROUND($B8*(1+$C8)^2,0)) | G8: =IF($B8="","",ROUND($B8*(1+$C8)^3,0)) | H8: =IF($B8="","",ROUND($B8*(1+$C8)^4,0)) | I8: =IF($B8="","",ROUND($B8*(1+$C8)^5,0)) | J8: =IF($B8="","",ROUND($B8*(1+$C8)^6,0)) | K8: =IF($B8="","",ROUND($B8*(1+$C8)^7,0)) | L8: =IF($B8="","",ROUND($B8*(1+$C8)^8,0)) | M8: =IF($B8="","",ROUND($B8*(1+$C8)^9,0)) | N8: =IF($B8="","",D8) | O8: =IF($B8="","",ROUND((N8+P8)/2,0)) | P8: =IF($B8="","",M8) | Q8: =IF(OR($D8="",$C$4=""),"",IF($D8<$C$4,"Yes","No"))
A9: 4 | B9: 20500 | C9: 0.03 | D9: =IF($B9="","",ROUND($B9*(1+$C9)^0,0)) | E9: =IF($B9="","",ROUND($B9*(1+$C9)^1,0)) | F9: =IF($B9="","",ROUND($B9*(1+$C9)^2,0)) | G9: =IF($B9="","",ROUND($B9*(1+$C9)^3,0)) | H9: =IF($B9="","",ROUND($B9*(1+$C9)^4,0)) | I9: =IF($B9="","",ROUND($B9*(1+$C9)^5,0)) | J9: =IF($B9="","",ROUND($B9*(1+$C9)^6,0)) | K9: =IF($B9="","",ROUND($B9*(1+$C9)^7,0)) | L9: =IF($B9="","",ROUND($B9*(1+$C9)^8,0)) | M9: =IF($B9="","",ROUND($B9*(1+$C9)^9,0)) | N9: =IF($B9="","",D9) | O9: =IF($B9="","",ROUND((N9+P9)/2,0)) | P9: =IF($B9="","",M9) | Q9: =IF(OR($D9="",$C$4=""),"",IF($D9<$C$4,"Yes","No"))
A10: 5 | B10: 24000 | C10: 0.03 | D10: =IF($B10="","",ROUND($B10*(1+$C10)^0,0)) | E10: =IF($B10="","",ROUND($B10*(1+$C10)^1,0)) | F10: =IF($B10="","",ROUND($B10*(1+$C10)^2,0)) | G10: =IF($B10="","",ROUND($B10*(1+$C10)^3,0)) | H10: =IF($B10="","",ROUND($B10*(1+$C10)^4,0)) | I10: =IF($B10="","",ROUND($B10*(1+$C10)^5,0)) | J10: =IF($B10="","",ROUND($B10*(1+$C10)^6,0)) | K10: =IF($B10="","",ROUND($B10*(1+$C10)^7,0)) | L10: =IF($B10="","",ROUND($B10*(1+$C10)^8,0)) | M10: =IF($B10="","",ROUND($B10*(1+$C10)^9,0)) | N10: =IF($B10="","",D10) | O10: =IF($B10="","",ROUND((N10+P10)/2,0)) | P10: =IF($B10="","",M10) | Q10: =IF(OR($D10="",$C$4=""),"",IF($D10<$C$4,"Yes","No"))
A11: 6 | B11: 28000 | C11: 0.035 | D11: =IF($B11="","",ROUND($B11*(1+$C11)^0,0)) | E11: =IF($B11="","",ROUND($B11*(1+$C11)^1,0)) | F11: =IF($B11="","",ROUND($B11*(1+$C11)^2,0)) | G11: =IF($B11="","",ROUND($B11*(1+$C11)^3,0)) | H11: =IF($B11="","",ROUND($B11*(1+$C11)^4,0)) | I11: =IF($B11="","",ROUND($B11*(1+$C11)^5,0)) | J11: =IF($B11="","",ROUND($B11*(1+$C11)^6,0)) | K11: =IF($B11="","",ROUND($B11*(1+$C11)^7,0)) | L11: =IF($B11="","",ROUND($B11*(1+$C11)^8,0)) | M11: =IF($B11="","",ROUND($B11*(1+$C11)^9,0)) | N11: =IF($B11="","",D11) | O11: =IF($B11="","",ROUND((N11+P11)/2,0)) | P11: =IF($B11="","",M11) | Q11: =IF(OR($D11="",$C$4=""),"",IF($D11<$C$4,"Yes","No"))
A12: 7 | B12: 33000 | C12: 0.035 | D12: =IF($B12="","",ROUND($B12*(1+$C12)^0,0)) | E12: =IF($B12="","",ROUND($B12*(1+$C12)^1,0)) | F12: =IF($B12="","",ROUND($B12*(1+$C12)^2,0)) | G12: =IF($B12="","",ROUND($B12*(1+$C12)^3,0)) | H12: =IF($B12="","",ROUND($B12*(1+$C12)^4,0)) | I12: =IF($B12="","",ROUND($B12*(1+$C12)^5,0)) | J12: =IF($B12="","",ROUND($B12*(1+$C12)^6,0)) | K12: =IF($B12="","",ROUND($B12*(1+$C12)^7,0)) | L12: =IF($B12="","",ROUND($B12*(1+$C12)^8,0)) | M12: =IF($B12="","",ROUND($B12*(1+$C12)^9,0)) | N12: =IF($B12="","",D12) | O12: =IF($B12="","",ROUND((N12+P12)/2,0)) | P12: =IF($B12="","",M12) | Q12: =IF(OR($D12="",$C$4=""),"",IF($D12<$C$4,"Yes","No"))
A13: 8 | B13: 39000 | C13: 0.04 | D13: =IF($B13="","",ROUND($B13*(1+$C13)^0,0)) | E13: =IF($B13="","",ROUND($B13*(1+$C13)^1,0)) | F13: =IF($B13="","",ROUND($B13*(1+$C13)^2,0)) | G13: =IF($B13="","",ROUND($B13*(1+$C13)^3,0)) | H13: =IF($B13="","",ROUND($B13*(1+$C13)^4,0)) | I13: =IF($B13="","",ROUND($B13*(1+$C13)^5,0)) | J13: =IF($B13="","",ROUND($B13*(1+$C13)^6,0)) | K13: =IF($B13="","",ROUND($B13*(1+$C13)^7,0)) | L13: =IF($B13="","",ROUND($B13*(1+$C13)^8,0)) | M13: =IF($B13="","",ROUND($B13*(1+$C13)^9,0)) | N13: =IF($B13="","",D13) | O13: =IF($B13="","",ROUND((N13+P13)/2,0)) | P13: =IF($B13="","",M13) | Q13: =IF(OR($D13="",$C$4=""),"",IF($D13<$C$4,"Yes","No"))
A14: 9 | B14: 46000 | C14: 0.04 | D14: =IF($B14="","",ROUND($B14*(1+$C14)^0,0)) | E14: =IF($B14="","",ROUND($B14*(1+$C14)^1,0)) | F14: =IF($B14="","",ROUND($B14*(1+$C14)^2,0)) | G14: =IF($B14="","",ROUND($B14*(1+$C14)^3,0)) | H14: =IF($B14="","",ROUND($B14*(1+$C14)^4,0)) | I14: =IF($B14="","",ROUND($B14*(1+$C14)^5,0)) | J14: =IF($B14="","",ROUND($B14*(1+$C14)^6,0)) | K14: =IF($B14="","",ROUND($B14*(1+$C14)^7,0)) | L14: =IF($B14="","",ROUND($B14*(1+$C14)^8,0)) | M14: =IF($B14="","",ROUND($B14*(1+$C14)^9,0)) | N14: =IF($B14="","",D14) | O14: =IF($B14="","",ROUND((N14+P14)/2,0)) | P14: =IF($B14="","",M14) | Q14: =IF(OR($D14="",$C$4=""),"",IF($D14<$C$4,"Yes","No"))
A15: 10 | B15: 55000 | C15: 0.04 | D15: =IF($B15="","",ROUND($B15*(1+$C15)^0,0)) | E15: =IF($B15="","",ROUND($B15*(1+$C15)^1,0)) | F15: =IF($B15="","",ROUND($B15*(1+$C15)^2,0)) | G15: =IF($B15="","",ROUND($B15*(1+$C15)^3,0)) | H15: =IF($B15="","",ROUND($B15*(1+$C15)^4,0)) | I15: =IF($B15="","",ROUND($B15*(1+$C15)^5,0)) | J15: =IF($B15="","",ROUND($B15*(1+$C15)^6,0)) | K15: =IF($B15="","",ROUND($B15*(1+$C15)^7,0)) | L15: =IF($B15="","",ROUND($B15*(1+$C15)^8,0)) | M15: =IF($B15="","",ROUND($B15*(1+$C15)^9,0)) | N15: =IF($B15="","",D15) | O15: =IF($B15="","",ROUND((N15+P15)/2,0)) | P15: =IF($B15="","",M15) | Q15: =IF(OR($D15="",$C$4=""),"",IF($D15<$C$4,"Yes","No"))

Sheet Jobs
A1: Jobs and their grades
A2: Enter each job title and pick its grade from 1 to 10. The salary range comes from the Grades sheet. The titles are examples only.
A5: Job title | B5: Grade | C5: Salary range: from | D5: Salary range: to
A6: Service worker | B6: 1 | C6: =IF($B6="","",INDEX('Grades'!$N$6:$N$15,MATCH($B6,'Grades'!$A$6:$A$15,0))) | D6: =IF($B6="","",INDEX('Grades'!$P$6:$P$15,MATCH($B6,'Grades'!$A$6:$A$15,0)))
A7: Driver | B7: 2 | C7: =IF($B7="","",INDEX('Grades'!$N$6:$N$15,MATCH($B7,'Grades'!$A$6:$A$15,0))) | D7: =IF($B7="","",INDEX('Grades'!$P$6:$P$15,MATCH($B7,'Grades'!$A$6:$A$15,0)))
A8: Receptionist | B8: 3 | C8: =IF($B8="","",INDEX('Grades'!$N$6:$N$15,MATCH($B8,'Grades'!$A$6:$A$15,0))) | D8: =IF($B8="","",INDEX('Grades'!$P$6:$P$15,MATCH($B8,'Grades'!$A$6:$A$15,0)))
A9: Storekeeper | B9: 4 | C9: =IF($B9="","",INDEX('Grades'!$N$6:$N$15,MATCH($B9,'Grades'!$A$6:$A$15,0))) | D9: =IF($B9="","",INDEX('Grades'!$P$6:$P$15,MATCH($B9,'Grades'!$A$6:$A$15,0)))
A10: Accountant | B10: 5 | C10: =IF($B10="","",INDEX('Grades'!$N$6:$N$15,MATCH($B10,'Grades'!$A$6:$A$15,0))) | D10: =IF($B10="","",INDEX('Grades'!$P$6:$P$15,MATCH($B10,'Grades'!$A$6:$A$15,0)))
A11: Sales officer | B11: 5 | C11: =IF($B11="","",INDEX('Grades'!$N$6:$N$15,MATCH($B11,'Grades'!$A$6:$A$15,0))) | D11: =IF($B11="","",INDEX('Grades'!$P$6:$P$15,MATCH($B11,'Grades'!$A$6:$A$15,0)))
A12: Engineer | B12: 6 | C12: =IF($B12="","",INDEX('Grades'!$N$6:$N$15,MATCH($B12,'Grades'!$A$6:$A$15,0))) | D12: =IF($B12="","",INDEX('Grades'!$P$6:$P$15,MATCH($B12,'Grades'!$A$6:$A$15,0)))
A13: Senior accountant | B13: 7 | C13: =IF($B13="","",INDEX('Grades'!$N$6:$N$15,MATCH($B13,'Grades'!$A$6:$A$15,0))) | D13: =IF($B13="","",INDEX('Grades'!$P$6:$P$15,MATCH($B13,'Grades'!$A$6:$A$15,0)))
A14: Department manager | B14: 8 | C14: =IF($B14="","",INDEX('Grades'!$N$6:$N$15,MATCH($B14,'Grades'!$A$6:$A$15,0))) | D14: =IF($B14="","",INDEX('Grades'!$P$6:$P$15,MATCH($B14,'Grades'!$A$6:$A$15,0)))
A15: Finance manager | B15: 9 | C15: =IF($B15="","",INDEX('Grades'!$N$6:$N$15,MATCH($B15,'Grades'!$A$6:$A$15,0))) | D15: =IF($B15="","",INDEX('Grades'!$P$6:$P$15,MATCH($B15,'Grades'!$A$6:$A$15,0)))
A16: General manager | B16: 10 | C16: =IF($B16="","",INDEX('Grades'!$N$6:$N$15,MATCH($B16,'Grades'!$A$6:$A$15,0))) | D16: =IF($B16="","",INDEX('Grades'!$P$6:$P$15,MATCH($B16,'Grades'!$A$6:$A$15,0)))
C17: =IF($B17="","",INDEX('Grades'!$N$6:$N$15,MATCH($B17,'Grades'!$A$6:$A$15,0))) | D17: =IF($B17="","",INDEX('Grades'!$P$6:$P$15,MATCH($B17,'Grades'!$A$6:$A$15,0)))
C18: =IF($B18="","",INDEX('Grades'!$N$6:$N$15,MATCH($B18,'Grades'!$A$6:$A$15,0))) | D18: =IF($B18="","",INDEX('Grades'!$P$6:$P$15,MATCH($B18,'Grades'!$A$6:$A$15,0)))
C19: =IF($B19="","",INDEX('Grades'!$N$6:$N$15,MATCH($B19,'Grades'!$A$6:$A$15,0))) | D19: =IF($B19="","",INDEX('Grades'!$P$6:$P$15,MATCH($B19,'Grades'!$A$6:$A$15,0)))
C20: =IF($B20="","",INDEX('Grades'!$N$6:$N$15,MATCH($B20,'Grades'!$A$6:$A$15,0))) | D20: =IF($B20="","",INDEX('Grades'!$P$6:$P$15,MATCH($B20,'Grades'!$A$6:$A$15,0)))
C21: =IF($B21="","",INDEX('Grades'!$N$6:$N$15,MATCH($B21,'Grades'!$A$6:$A$15,0))) | D21: =IF($B21="","",INDEX('Grades'!$P$6:$P$15,MATCH($B21,'Grades'!$A$6:$A$15,0)))
C22: =IF($B22="","",INDEX('Grades'!$N$6:$N$15,MATCH($B22,'Grades'!$A$6:$A$15,0))) | D22: =IF($B22="","",INDEX('Grades'!$P$6:$P$15,MATCH($B22,'Grades'!$A$6:$A$15,0)))
C23: =IF($B23="","",INDEX('Grades'!$N$6:$N$15,MATCH($B23,'Grades'!$A$6:$A$15,0))) | D23: =IF($B23="","",INDEX('Grades'!$P$6:$P$15,MATCH($B23,'Grades'!$A$6:$A$15,0)))
C24: =IF($B24="","",INDEX('Grades'!$N$6:$N$15,MATCH($B24,'Grades'!$A$6:$A$15,0))) | D24: =IF($B24="","",INDEX('Grades'!$P$6:$P$15,MATCH($B24,'Grades'!$A$6:$A$15,0)))
C25: =IF($B25="","",INDEX('Grades'!$N$6:$N$15,MATCH($B25,'Grades'!$A$6:$A$15,0))) | D25: =IF($B25="","",INDEX('Grades'!$P$6:$P$15,MATCH($B25,'Grades'!$A$6:$A$15,0)))
C26: =IF($B26="","",INDEX('Grades'!$N$6:$N$15,MATCH($B26,'Grades'!$A$6:$A$15,0))) | D26: =IF($B26="","",INDEX('Grades'!$P$6:$P$15,MATCH($B26,'Grades'!$A$6:$A$15,0)))
C27: =IF($B27="","",INDEX('Grades'!$N$6:$N$15,MATCH($B27,'Grades'!$A$6:$A$15,0))) | D27: =IF($B27="","",INDEX('Grades'!$P$6:$P$15,MATCH($B27,'Grades'!$A$6:$A$15,0)))
C28: =IF($B28="","",INDEX('Grades'!$N$6:$N$15,MATCH($B28,'Grades'!$A$6:$A$15,0))) | D28: =IF($B28="","",INDEX('Grades'!$P$6:$P$15,MATCH($B28,'Grades'!$A$6:$A$15,0)))
... C45: =IF($B45="","",INDEX('Grades'!$N$6:$N$15,MATCH($B45,'Grades'!$A$6:$A$15,0))) | D45: =IF($B45="","",INDEX('Grades'!$P$6:$P$15,MATCH($B45,'Grades'!$A$6:$A$15,0)))

Sheet Employees
A1: Employees on the salary scale
A2: Enter each employee’s name, pick their job title and step, and enter their current salary. Grade, scale salary and the flag are formulas. Names and amounts are examples only.
A5: Employee | B5: Job title | C5: Grade | D5: Step | E5: Scale salary | F5: Current salary | G5: Grade minimum | H5: Grade maximum | I5: Difference from scale | J5: Flag
A6: Sample employee 1 | B6: Accountant | C6: =IF($B6="","",IFERROR(VLOOKUP($B6,'Jobs'!$A$6:$B$45,2,FALSE),"?")) | D6: 3 | E6: =IF(OR($C6="",$C6="?",$D6=""),"",INDEX('Grades'!$D$6:$M$15,MATCH($C6,'Grades'!$A$6:$A$15,0),$D6)) | F6: 25500 | G6: =IF(OR($C6="",$C6="?"),"",INDEX('Grades'!$N$6:$N$15,MATCH($C6,'Grades'!$A$6:$A$15,0))) | H6: =IF(OR($C6="",$C6="?"),"",INDEX('Grades'!$P$6:$P$15,MATCH($C6,'Grades'!$A$6:$A$15,0))) | I6: =IF(OR($E6="",$F6=""),"",$F6-$E6) | J6: =IF($B6="","",IF($C6="?","Job title not in Jobs sheet",IF($F6="","",IF($F6<$G6,"Below grade minimum",IF($F6>$H6,"Above grade maximum","Within grade range")))))
A7: Sample employee 2 | B7: Driver | C7: =IF($B7="","",IFERROR(VLOOKUP($B7,'Jobs'!$A$6:$B$45,2,FALSE),"?")) | D7: 1 | E7: =IF(OR($C7="",$C7="?",$D7=""),"",INDEX('Grades'!$D$6:$M$15,MATCH($C7,'Grades'!$A$6:$A$15,0),$D7)) | F7: 15000 | G7: =IF(OR($C7="",$C7="?"),"",INDEX('Grades'!$N$6:$N$15,MATCH($C7,'Grades'!$A$6:$A$15,0))) | H7: =IF(OR($C7="",$C7="?"),"",INDEX('Grades'!$P$6:$P$15,MATCH($C7,'Grades'!$A$6:$A$15,0))) | I7: =IF(OR($E7="",$F7=""),"",$F7-$E7) | J7: =IF($B7="","",IF($C7="?","Job title not in Jobs sheet",IF($F7="","",IF($F7<$G7,"Below grade minimum",IF($F7>$H7,"Above grade maximum","Within grade range")))))
A8: Sample employee 3 | B8: Engineer | C8: =IF($B8="","",IFERROR(VLOOKUP($B8,'Jobs'!$A$6:$B$45,2,FALSE),"?")) | D8: 5 | E8: =IF(OR($C8="",$C8="?",$D8=""),"",INDEX('Grades'!$D$6:$M$15,MATCH($C8,'Grades'!$A$6:$A$15,0),$D8)) | F8: 31500 | G8: =IF(OR($C8="",$C8="?"),"",INDEX('Grades'!$N$6:$N$15,MATCH($C8,'Grades'!$A$6:$A$15,0))) | H8: =IF(OR($C8="",$C8="?"),"",INDEX('Grades'!$P$6:$P$15,MATCH($C8,'Grades'!$A$6:$A$15,0))) | I8: =IF(OR($E8="",$F8=""),"",$F8-$E8) | J8: =IF($B8="","",IF($C8="?","Job title not in Jobs sheet",IF($F8="","",IF($F8<$G8,"Below grade minimum",IF($F8>$H8,"Above grade maximum","Within grade range")))))
A9: Sample employee 4 | B9: Receptionist | C9: =IF($B9="","",IFERROR(VLOOKUP($B9,'Jobs'!$A$6:$B$45,2,FALSE),"?")) | D9: 2 | E9: =IF(OR($C9="",$C9="?",$D9=""),"",INDEX('Grades'!$D$6:$M$15,MATCH($C9,'Grades'!$A$6:$A$15,0),$D9)) | F9: 16500 | G9: =IF(OR($C9="",$C9="?"),"",INDEX('Grades'!$N$6:$N$15,MATCH($C9,'Grades'!$A$6:$A$15,0))) | H9: =IF(OR($C9="",$C9="?"),"",INDEX('Grades'!$P$6:$P$15,MATCH($C9,'Grades'!$A$6:$A$15,0))) | I9: =IF(OR($E9="",$F9=""),"",$F9-$E9) | J9: =IF($B9="","",IF($C9="?","Job title not in Jobs sheet",IF($F9="","",IF($F9<$G9,"Below grade minimum",IF($F9>$H9,"Above grade maximum","Within grade range")))))
A10: Sample employee 5 | B10: Department manager | C10: =IF($B10="","",IFERROR(VLOOKUP($B10,'Jobs'!$A$6:$B$45,2,FALSE),"?")) | D10: 4 | E10: =IF(OR($C10="",$C10="?",$D10=""),"",INDEX('Grades'!$D$6:$M$15,MATCH($C10,'Grades'!$A$6:$A$15,0),$D10)) | F10: 52000 | G10: =IF(OR($C10="",$C10="?"),"",INDEX('Grades'!$N$6:$N$15,MATCH($C10,'Grades'!$A$6:$A$15,0))) | H10: =IF(OR($C10="",$C10="?"),"",INDEX('Grades'!$P$6:$P$15,MATCH($C10,'Grades'!$A$6:$A$15,0))) | I10: =IF(OR($E10="",$F10=""),"",$F10-$E10) | J10: =IF($B10="","",IF($C10="?","Job title not in Jobs sheet",IF($F10="","",IF($F10<$G10,"Below grade minimum",IF($F10>$H10,"Above grade maximum","Within grade range")))))
A11: Sample employee 6 | B11: Sales officer | C11: =IF($B11="","",IFERROR(VLOOKUP($B11,'Jobs'!$A$6:$B$45,2,FALSE),"?")) | D11: 2 | E11: =IF(OR($C11="",$C11="?",$D11=""),"",INDEX('Grades'!$D$6:$M$15,MATCH($C11,'Grades'!$A$6:$A$15,0),$D11)) | F11: 33000 | G11: =IF(OR($C11="",$C11="?"),"",INDEX('Grades'!$N$6:$N$15,MATCH($C11,'Grades'!$A$6:$A$15,0))) | H11: =IF(OR($C11="",$C11="?"),"",INDEX('Grades'!$P$6:$P$15,MATCH($C11,'Grades'!$A$6:$A$15,0))) | I11: =IF(OR($E11="",$F11=""),"",$F11-$E11) | J11: =IF($B11="","",IF($C11="?","Job title not in Jobs sheet",IF($F11="","",IF($F11<$G11,"Below grade minimum",IF($F11>$H11,"Above grade maximum","Within grade range")))))
C12: =IF($B12="","",IFERROR(VLOOKUP($B12,'Jobs'!$A$6:$B$45,2,FALSE),"?")) | E12: =IF(OR($C12="",$C12="?",$D12=""),"",INDEX('Grades'!$D$6:$M$15,MATCH($C12,'Grades'!$A$6:$A$15,0),$D12)) | G12: =IF(OR($C12="",$C12="?"),"",INDEX('Grades'!$N$6:$N$15,MATCH($C12,'Grades'!$A$6:$A$15,0))) | H12: =IF(OR($C12="",$C12="?"),"",INDEX('Grades'!$P$6:$P$15,MATCH($C12,'Grades'!$A$6:$A$15,0))) | I12: =IF(OR($E12="",$F12=""),"",$F12-$E12) | J12: =IF($B12="","",IF($C12="?","Job title not in Jobs sheet",IF($F12="","",IF($F12<$G12,"Below grade minimum",IF($F12>$H12,"Above grade maximum","Within grade range")))))
C13: =IF($B13="","",IFERROR(VLOOKUP($B13,'Jobs'!$A$6:$B$45,2,FALSE),"?")) | E13: =IF(OR($C13="",$C13="?",$D13=""),"",INDEX('Grades'!$D$6:$M$15,MATCH($C13,'Grades'!$A$6:$A$15,0),$D13)) | G13: =IF(OR($C13="",$C13="?"),"",INDEX('Grades'!$N$6:$N$15,MATCH($C13,'Grades'!$A$6:$A$15,0))) | H13: =IF(OR($C13="",$C13="?"),"",INDEX('Grades'!$P$6:$P$15,MATCH($C13,'Grades'!$A$6:$A$15,0))) | I13: =IF(OR($E13="",$F13=""),"",$F13-$E13) | J13: =IF($B13="","",IF($C13="?","Job title not in Jobs sheet",IF($F13="","",IF($F13<$G13,"Below grade minimum",IF($F13>$H13,"Above grade maximum","Within grade range")))))
C14: =IF($B14="","",IFERROR(VLOOKUP($B14,'Jobs'!$A$6:$B$45,2,FALSE),"?")) | E14: =IF(OR($C14="",$C14="?",$D14=""),"",INDEX('Grades'!$D$6:$M$15,MATCH($C14,'Grades'!$A$6:$A$15,0),$D14)) | G14: =IF(OR($C14="",$C14="?"),"",INDEX('Grades'!$N$6:$N$15,MATCH($C14,'Grades'!$A$6:$A$15,0))) | H14: =IF(OR($C14="",$C14="?"),"",INDEX('Grades'!$P$6:$P$15,MATCH($C14,'Grades'!$A$6:$A$15,0))) | I14: =IF(OR($E14="",$F14=""),"",$F14-$E14) | J14: =IF($B14="","",IF($C14="?","Job title not in Jobs sheet",IF($F14="","",IF($F14<$G14,"Below grade minimum",IF($F14>$H14,"Above grade maximum","Within grade range")))))
C15: =IF($B15="","",IFERROR(VLOOKUP($B15,'Jobs'!$A$6:$B$45,2,FALSE),"?")) | E15: =IF(OR($C15="",$C15="?",$D15=""),"",INDEX('Grades'!$D$6:$M$15,MATCH($C15,'Grades'!$A$6:$A$15,0),$D15)) | G15: =IF(OR($C15="",$C15="?"),"",INDEX('Grades'!$N$6:$N$15,MATCH($C15,'Grades'!$A$6:$A$15,0))) | H15: =IF(OR($C15="",$C15="?"),"",INDEX('Grades'!$P$6:$P$15,MATCH($C15,'Grades'!$A$6:$A$15,0))) | I15: =IF(OR($E15="",$F15=""),"",$F15-$E15) | J15: =IF($B15="","",IF($C15="?","Job title not in Jobs sheet",IF($F15="","",IF($F15<$G15,"Below grade minimum",IF($F15>$H15,"Above grade maximum","Within grade range")))))
C16: =IF($B16="","",IFERROR(VLOOKUP($B16,'Jobs'!$A$6:$B$45,2,FALSE),"?")) | E16: =IF(OR($C16="",$C16="?",$D16=""),"",INDEX('Grades'!$D$6:$M$15,MATCH($C16,'Grades'!$A$6:$A$15,0),$D16)) | G16: =IF(OR($C16="",$C16="?"),"",INDEX('Grades'!$N$6:$N$15,MATCH($C16,'Grades'!$A$6:$A$15,0))) | H16: =IF(OR($C16="",$C16="?"),"",INDEX('Grades'!$P$6:$P$15,MATCH($C16,'Grades'!$A$6:$A$15,0))) | I16: =IF(OR($E16="",$F16=""),"",$F16-$E16) | J16: =IF($B16="","",IF($C16="?","Job title not in Jobs sheet",IF($F16="","",IF($F16<$G16,"Below grade minimum",IF($F16>$H16,"Above grade maximum","Within grade range")))))
C17: =IF($B17="","",IFERROR(VLOOKUP($B17,'Jobs'!$A$6:$B$45,2,FALSE),"?")) | E17: =IF(OR($C17="",$C17="?",$D17=""),"",INDEX('Grades'!$D$6:$M$15,MATCH($C17,'Grades'!$A$6:$A$15,0),$D17)) | G17: =IF(OR($C17="",$C17="?"),"",INDEX('Grades'!$N$6:$N$15,MATCH($C17,'Grades'!$A$6:$A$15,0))) | H17: =IF(OR($C17="",$C17="?"),"",INDEX('Grades'!$P$6:$P$15,MATCH($C17,'Grades'!$A$6:$A$15,0))) | I17: =IF(OR($E17="",$F17=""),"",$F17-$E17) | J17: =IF($B17="","",IF($C17="?","Job title not in Jobs sheet",IF($F17="","",IF($F17<$G17,"Below grade minimum",IF($F17>$H17,"Above grade maximum","Within grade range")))))
C18: =IF($B18="","",IFERROR(VLOOKUP($B18,'Jobs'!$A$6:$B$45,2,FALSE),"?")) | E18: =IF(OR($C18="",$C18="?",$D18=""),"",INDEX('Grades'!$D$6:$M$15,MATCH($C18,'Grades'!$A$6:$A$15,0),$D18)) | G18: =IF(OR($C18="",$C18="?"),"",INDEX('Grades'!$N$6:$N$15,MATCH($C18,'Grades'!$A$6:$A$15,0))) | H18: =IF(OR($C18="",$C18="?"),"",INDEX('Grades'!$P$6:$P$15,MATCH($C18,'Grades'!$A$6:$A$15,0))) | I18: =IF(OR($E18="",$F18=""),"",$F18-$E18) | J18: =IF($B18="","",IF($C18="?","Job title not in Jobs sheet",IF($F18="","",IF($F18<$G18,"Below grade minimum",IF($F18>$H18,"Above grade maximum","Within grade range")))))
C19: =IF($B19="","",IFERROR(VLOOKUP($B19,'Jobs'!$A$6:$B$45,2,FALSE),"?")) | E19: =IF(OR($C19="",$C19="?",$D19=""),"",INDEX('Grades'!$D$6:$M$15,MATCH($C19,'Grades'!$A$6:$A$15,0),$D19)) | G19: =IF(OR($C19="",$C19="?"),"",INDEX('Grades'!$N$6:$N$15,MATCH($C19,'Grades'!$A$6:$A$15,0))) | H19: =IF(OR($C19="",$C19="?"),"",INDEX('Grades'!$P$6:$P$15,MATCH($C19,'Grades'!$A$6:$A$15,0))) | I19: =IF(OR($E19="",$F19=""),"",$F19-$E19) | J19: =IF($B19="","",IF($C19="?","Job title not in Jobs sheet",IF($F19="","",IF($F19<$G19,"Below grade minimum",IF($F19>$H19,"Above grade maximum","Within grade range")))))
C20: =IF($B20="","",IFERROR(VLOOKUP($B20,'Jobs'!$A$6:$B$45,2,FALSE),"?")) | E20: =IF(OR($C20="",$C20="?",$D20=""),"",INDEX('Grades'!$D$6:$M$15,MATCH($C20,'Grades'!$A$6:$A$15,0),$D20)) | G20: =IF(OR($C20="",$C20="?"),"",INDEX('Grades'!$N$6:$N$15,MATCH($C20,'Grades'!$A$6:$A$15,0))) | H20: =IF(OR($C20="",$C20="?"),"",INDEX('Grades'!$P$6:$P$15,MATCH($C20,'Grades'!$A$6:$A$15,0))) | I20: =IF(OR($E20="",$F20=""),"",$F20-$E20) | J20: =IF($B20="","",IF($C20="?","Job title not in Jobs sheet",IF($F20="","",IF($F20<$G20,"Below grade minimum",IF($F20>$H20,"Above grade maximum","Within grade range")))))
C21: =IF($B21="","",IFERROR(VLOOKUP($B21,'Jobs'!$A$6:$B$45,2,FALSE),"?")) | E21: =IF(OR($C21="",$C21="?",$D21=""),"",INDEX('Grades'!$D$6:$M$15,MATCH($C21,'Grades'!$A$6:$A$15,0),$D21)) | G21: =IF(OR($C21="",$C21="?"),"",INDEX('Grades'!$N$6:$N$15,MATCH($C21,'Grades'!$A$6:$A$15,0))) | H21: =IF(OR($C21="",$C21="?"),"",INDEX('Grades'!$P$6:$P$15,MATCH($C21,'Grades'!$A$6:$A$15,0))) | I21: =IF(OR($E21="",$F21=""),"",$F21-$E21) | J21: =IF($B21="","",IF($C21="?","Job title not in Jobs sheet",IF($F21="","",IF($F21<$G21,"Below grade minimum",IF($F21>$H21,"Above grade maximum","Within grade range")))))
C22: =IF($B22="","",IFERROR(VLOOKUP($B22,'Jobs'!$A$6:$B$45,2,FALSE),"?")) | E22: =IF(OR($C22="",$C22="?",$D22=""),"",INDEX('Grades'!$D$6:$M$15,MATCH($C22,'Grades'!$A$6:$A$15,0),$D22)) | G22: =IF(OR($C22="",$C22="?"),"",INDEX('Grades'!$N$6:$N$15,MATCH($C22,'Grades'!$A$6:$A$15,0))) | H22: =IF(OR($C22="",$C22="?"),"",INDEX('Grades'!$P$6:$P$15,MATCH($C22,'Grades'!$A$6:$A$15,0))) | I22: =IF(OR($E22="",$F22=""),"",$F22-$E22) | J22: =IF($B22="","",IF($C22="?","Job title not in Jobs sheet",IF($F22="","",IF($F22<$G22,"Below grade minimum",IF($F22>$H22,"Above grade maximum","Within grade range")))))
C23: =IF($B23="","",IFERROR(VLOOKUP($B23,'Jobs'!$A$6:$B$45,2,FALSE),"?")) | E23: =IF(OR($C23="",$C23="?",$D23=""),"",INDEX('Grades'!$D$6:$M$15,MATCH($C23,'Grades'!$A$6:$A$15,0),$D23)) | G23: =IF(OR($C23="",$C23="?"),"",INDEX('Grades'!$N$6:$N$15,MATCH($C23,'Grades'!$A$6:$A$15,0))) | H23: =IF(OR($C23="",$C23="?"),"",INDEX('Grades'!$P$6:$P$15,MATCH($C23,'Grades'!$A$6:$A$15,0))) | I23: =IF(OR($E23="",$F23=""),"",$F23-$E23) | J23: =IF($B23="","",IF($C23="?","Job title not in Jobs sheet",IF($F23="","",IF($F23<$G23,"Below grade minimum",IF($F23>$H23,"Above grade maximum","Within grade range")))))
... C55: =IF($B55="","",IFERROR(VLOOKUP($B55,'Jobs'!$A$6:$B$45,2,FALSE),"?")) | E55: =IF(OR($C55="",$C55="?",$D55=""),"",INDEX('Grades'!$D$6:$M$15,MATCH($C55,'Grades'!$A$6:$A$15,0),$D55)) | G55: =IF(OR($C55="",$C55="?"),"",INDEX('Grades'!$N$6:$N$15,MATCH($C55,'Grades'!$A$6:$A$15,0))) | H55: =IF(OR($C55="",$C55="?"),"",INDEX('Grades'!$P$6:$P$15,MATCH($C55,'Grades'!$A$6:$A$15,0))) | I55: =IF(OR($E55="",$F55=""),"",$F55-$E55) | J55: =IF($B55="","",IF($C55="?","Job title not in Jobs sheet",IF($F55="","",IF($F55<$G55,"Below grade minimum",IF($F55>$H55,"Above grade maximum","Within grade range")))))

Sheet How to use
A1: Free salary scale template from Diwan
A2: A simple template to build a salary scale for a company in Syria: ten grades, each with ten steps that rise by the yearly step percentage.
A4: How to use it:
A5: 1. On the Grades sheet, enter each grade’s starting salary and yearly step %. The steps and the three range points calculate on their own.
A6: 2. On the Jobs sheet, list your company’s job titles and pick a grade for each.
A7: 3. On the Employees sheet, enter each employee’s name, pick their job title and step, and enter their current salary.
A8: 4. Check the Flag column: any salary outside its grade’s range shows in red.
A10: Notes:
A11: • Every amount, title and name in the file is an example only. Replace them with your own.
A12: • Step 1 is the starting salary. Each later step = the previous step × (1 + the step %), rounded to the nearest pound.
A13: • Make sure the lowest salary on the scale is not below the minimum wage in force (12,560 new pounds a month under Decree 67 of 2026). The "Below minimum wage?" column on the Grades sheet compares step 1 with it; if the minimum wage changes, update cell C4.
A14: • Salaries here are gross, before social insurance and salary tax.
A16: General information only, not legal or tax advice. diwanhr.com
