Workbook

Sheet كشف الرواتب
A1: كشف رواتب شهري
A2: الشهر: | B2: اكتب الشهر هنا
A3: المبالغ شهرية بالليرة السورية الجديدة. النسب والحدود في ورقة «الإعدادات». الأسطر الثلاثة الأولى لموظفين وهميين ومبالغها توضيحية فقط: احذفها وأدخل موظفيك.
A5: الموظف | B5: القسم | C5: الراتب الأساسي | D5: التعويضات والبدلات (خاضعة ومؤمَّن عليها) | E5: العمل الإضافي | F5: تعويض نفقات فعلية بإيصالات (غير خاضع) | G5: الإجمالي الخاضع | H5: الأجر المؤمَّن عليه يدوياً (اختياري) | I5: الأجر المؤمَّن عليه المعتمد | J5: اشتراك العامل في التأمينات | K5: المبلغ الخاضع للضريبة | L5: ضريبة الرواتب | M5: السلف والخصومات الأخرى | N5: الصافي المستحق | O5: حصة صاحب العمل في التأمينات | P5: إجمالي التكلفة على صاحب العمل
A6: موظف تجريبي ١ | B6: المستودع | C6: 18000 | D6: 2000 | E6: 0 | F6: 0 | G6: =IF($A6="","",C6+D6+E6) | I6: =IF($A6="","",MIN(MAX(IF(H6="",C6+D6,H6),'الإعدادات'!$B$6),'الإعدادات'!$B$7)) | J6: =IF($A6="","",ROUND(I6*'الإعدادات'!$B$8,0)) | K6: =IF($A6="","",MAX(0,G6-J6-'الإعدادات'!$B$5)) | L6: =IF($A6="","",ROUND(K6*'الإعدادات'!$B$10,0)) | M6: 0 | N6: =IF($A6="","",G6-J6-L6-M6+F6) | O6: =IF($A6="","",ROUND(I6*'الإعدادات'!$B$9,0)) | P6: =IF($A6="","",G6+F6+O6)
A7: موظف تجريبي ٢ | B7: المبيعات | C7: 40000 | D7: 8000 | E7: 2000 | F7: 1500 | G7: =IF($A7="","",C7+D7+E7) | I7: =IF($A7="","",MIN(MAX(IF(H7="",C7+D7,H7),'الإعدادات'!$B$6),'الإعدادات'!$B$7)) | J7: =IF($A7="","",ROUND(I7*'الإعدادات'!$B$8,0)) | K7: =IF($A7="","",MAX(0,G7-J7-'الإعدادات'!$B$5)) | L7: =IF($A7="","",ROUND(K7*'الإعدادات'!$B$10,0)) | M7: 3000 | N7: =IF($A7="","",G7-J7-L7-M7+F7) | O7: =IF($A7="","",ROUND(I7*'الإعدادات'!$B$9,0)) | P7: =IF($A7="","",G7+F7+O7)
A8: موظف تجريبي ٣ | B8: المحاسبة | C8: 65000 | D8: 15000 | E8: 0 | F8: 0 | G8: =IF($A8="","",C8+D8+E8) | I8: =IF($A8="","",MIN(MAX(IF(H8="",C8+D8,H8),'الإعدادات'!$B$6),'الإعدادات'!$B$7)) | J8: =IF($A8="","",ROUND(I8*'الإعدادات'!$B$8,0)) | K8: =IF($A8="","",MAX(0,G8-J8-'الإعدادات'!$B$5)) | L8: =IF($A8="","",ROUND(K8*'الإعدادات'!$B$10,0)) | M8: 0 | N8: =IF($A8="","",G8-J8-L8-M8+F8) | O8: =IF($A8="","",ROUND(I8*'الإعدادات'!$B$9,0)) | P8: =IF($A8="","",G8+F8+O8)
G9: =IF($A9="","",C9+D9+E9) | I9: =IF($A9="","",MIN(MAX(IF(H9="",C9+D9,H9),'الإعدادات'!$B$6),'الإعدادات'!$B$7)) | J9: =IF($A9="","",ROUND(I9*'الإعدادات'!$B$8,0)) | K9: =IF($A9="","",MAX(0,G9-J9-'الإعدادات'!$B$5)) | L9: =IF($A9="","",ROUND(K9*'الإعدادات'!$B$10,0)) | N9: =IF($A9="","",G9-J9-L9-M9+F9) | O9: =IF($A9="","",ROUND(I9*'الإعدادات'!$B$9,0)) | P9: =IF($A9="","",G9+F9+O9)
G10: =IF($A10="","",C10+D10+E10) | I10: =IF($A10="","",MIN(MAX(IF(H10="",C10+D10,H10),'الإعدادات'!$B$6),'الإعدادات'!$B$7)) | J10: =IF($A10="","",ROUND(I10*'الإعدادات'!$B$8,0)) | K10: =IF($A10="","",MAX(0,G10-J10-'الإعدادات'!$B$5)) | L10: =IF($A10="","",ROUND(K10*'الإعدادات'!$B$10,0)) | N10: =IF($A10="","",G10-J10-L10-M10+F10) | O10: =IF($A10="","",ROUND(I10*'الإعدادات'!$B$9,0)) | P10: =IF($A10="","",G10+F10+O10)
G11: =IF($A11="","",C11+D11+E11) | I11: =IF($A11="","",MIN(MAX(IF(H11="",C11+D11,H11),'الإعدادات'!$B$6),'الإعدادات'!$B$7)) | J11: =IF($A11="","",ROUND(I11*'الإعدادات'!$B$8,0)) | K11: =IF($A11="","",MAX(0,G11-J11-'الإعدادات'!$B$5)) | L11: =IF($A11="","",ROUND(K11*'الإعدادات'!$B$10,0)) | N11: =IF($A11="","",G11-J11-L11-M11+F11) | O11: =IF($A11="","",ROUND(I11*'الإعدادات'!$B$9,0)) | P11: =IF($A11="","",G11+F11+O11)
G12: =IF($A12="","",C12+D12+E12) | I12: =IF($A12="","",MIN(MAX(IF(H12="",C12+D12,H12),'الإعدادات'!$B$6),'الإعدادات'!$B$7)) | J12: =IF($A12="","",ROUND(I12*'الإعدادات'!$B$8,0)) | K12: =IF($A12="","",MAX(0,G12-J12-'الإعدادات'!$B$5)) | L12: =IF($A12="","",ROUND(K12*'الإعدادات'!$B$10,0)) | N12: =IF($A12="","",G12-J12-L12-M12+F12) | O12: =IF($A12="","",ROUND(I12*'الإعدادات'!$B$9,0)) | P12: =IF($A12="","",G12+F12+O12)
G13: =IF($A13="","",C13+D13+E13) | I13: =IF($A13="","",MIN(MAX(IF(H13="",C13+D13,H13),'الإعدادات'!$B$6),'الإعدادات'!$B$7)) | J13: =IF($A13="","",ROUND(I13*'الإعدادات'!$B$8,0)) | K13: =IF($A13="","",MAX(0,G13-J13-'الإعدادات'!$B$5)) | L13: =IF($A13="","",ROUND(K13*'الإعدادات'!$B$10,0)) | N13: =IF($A13="","",G13-J13-L13-M13+F13) | O13: =IF($A13="","",ROUND(I13*'الإعدادات'!$B$9,0)) | P13: =IF($A13="","",G13+F13+O13)
G14: =IF($A14="","",C14+D14+E14) | I14: =IF($A14="","",MIN(MAX(IF(H14="",C14+D14,H14),'الإعدادات'!$B$6),'الإعدادات'!$B$7)) | J14: =IF($A14="","",ROUND(I14*'الإعدادات'!$B$8,0)) | K14: =IF($A14="","",MAX(0,G14-J14-'الإعدادات'!$B$5)) | L14: =IF($A14="","",ROUND(K14*'الإعدادات'!$B$10,0)) | N14: =IF($A14="","",G14-J14-L14-M14+F14) | O14: =IF($A14="","",ROUND(I14*'الإعدادات'!$B$9,0)) | P14: =IF($A14="","",G14+F14+O14)
G15: =IF($A15="","",C15+D15+E15) | I15: =IF($A15="","",MIN(MAX(IF(H15="",C15+D15,H15),'الإعدادات'!$B$6),'الإعدادات'!$B$7)) | J15: =IF($A15="","",ROUND(I15*'الإعدادات'!$B$8,0)) | K15: =IF($A15="","",MAX(0,G15-J15-'الإعدادات'!$B$5)) | L15: =IF($A15="","",ROUND(K15*'الإعدادات'!$B$10,0)) | N15: =IF($A15="","",G15-J15-L15-M15+F15) | O15: =IF($A15="","",ROUND(I15*'الإعدادات'!$B$9,0)) | P15: =IF($A15="","",G15+F15+O15)
G16: =IF($A16="","",C16+D16+E16) | I16: =IF($A16="","",MIN(MAX(IF(H16="",C16+D16,H16),'الإعدادات'!$B$6),'الإعدادات'!$B$7)) | J16: =IF($A16="","",ROUND(I16*'الإعدادات'!$B$8,0)) | K16: =IF($A16="","",MAX(0,G16-J16-'الإعدادات'!$B$5)) | L16: =IF($A16="","",ROUND(K16*'الإعدادات'!$B$10,0)) | N16: =IF($A16="","",G16-J16-L16-M16+F16) | O16: =IF($A16="","",ROUND(I16*'الإعدادات'!$B$9,0)) | P16: =IF($A16="","",G16+F16+O16)
G17: =IF($A17="","",C17+D17+E17) | I17: =IF($A17="","",MIN(MAX(IF(H17="",C17+D17,H17),'الإعدادات'!$B$6),'الإعدادات'!$B$7)) | J17: =IF($A17="","",ROUND(I17*'الإعدادات'!$B$8,0)) | K17: =IF($A17="","",MAX(0,G17-J17-'الإعدادات'!$B$5)) | L17: =IF($A17="","",ROUND(K17*'الإعدادات'!$B$10,0)) | N17: =IF($A17="","",G17-J17-L17-M17+F17) | O17: =IF($A17="","",ROUND(I17*'الإعدادات'!$B$9,0)) | P17: =IF($A17="","",G17+F17+O17)
G18: =IF($A18="","",C18+D18+E18) | I18: =IF($A18="","",MIN(MAX(IF(H18="",C18+D18,H18),'الإعدادات'!$B$6),'الإعدادات'!$B$7)) | J18: =IF($A18="","",ROUND(I18*'الإعدادات'!$B$8,0)) | K18: =IF($A18="","",MAX(0,G18-J18-'الإعدادات'!$B$5)) | L18: =IF($A18="","",ROUND(K18*'الإعدادات'!$B$10,0)) | N18: =IF($A18="","",G18-J18-L18-M18+F18) | O18: =IF($A18="","",ROUND(I18*'الإعدادات'!$B$9,0)) | P18: =IF($A18="","",G18+F18+O18)
G19: =IF($A19="","",C19+D19+E19) | I19: =IF($A19="","",MIN(MAX(IF(H19="",C19+D19,H19),'الإعدادات'!$B$6),'الإعدادات'!$B$7)) | J19: =IF($A19="","",ROUND(I19*'الإعدادات'!$B$8,0)) | K19: =IF($A19="","",MAX(0,G19-J19-'الإعدادات'!$B$5)) | L19: =IF($A19="","",ROUND(K19*'الإعدادات'!$B$10,0)) | N19: =IF($A19="","",G19-J19-L19-M19+F19) | O19: =IF($A19="","",ROUND(I19*'الإعدادات'!$B$9,0)) | P19: =IF($A19="","",G19+F19+O19)
G20: =IF($A20="","",C20+D20+E20) | I20: =IF($A20="","",MIN(MAX(IF(H20="",C20+D20,H20),'الإعدادات'!$B$6),'الإعدادات'!$B$7)) | J20: =IF($A20="","",ROUND(I20*'الإعدادات'!$B$8,0)) | K20: =IF($A20="","",MAX(0,G20-J20-'الإعدادات'!$B$5)) | L20: =IF($A20="","",ROUND(K20*'الإعدادات'!$B$10,0)) | N20: =IF($A20="","",G20-J20-L20-M20+F20) | O20: =IF($A20="","",ROUND(I20*'الإعدادات'!$B$9,0)) | P20: =IF($A20="","",G20+F20+O20)
... G35: =IF($A35="","",C35+D35+E35) | I35: =IF($A35="","",MIN(MAX(IF(H35="",C35+D35,H35),'الإعدادات'!$B$6),'الإعدادات'!$B$7)) | J35: =IF($A35="","",ROUND(I35*'الإعدادات'!$B$8,0)) | K35: =IF($A35="","",MAX(0,G35-J35-'الإعدادات'!$B$5)) | L35: =IF($A35="","",ROUND(K35*'الإعدادات'!$B$10,0)) | N35: =IF($A35="","",G35-J35-L35-M35+F35) | O35: =IF($A35="","",ROUND(I35*'الإعدادات'!$B$9,0)) | P35: =IF($A35="","",G35+F35+O35)
A36: المجموع | C36: =SUM(C6:C35) | D36: =SUM(D6:D35) | E36: =SUM(E6:E35) | F36: =SUM(F6:F35) | G36: =SUM(G6:G35) | I36: =SUM(I6:I35) | J36: =SUM(J6:J35) | K36: =SUM(K6:K35) | L36: =SUM(L6:L35) | M36: =SUM(M6:M35) | N36: =SUM(N6:N35) | O36: =SUM(O6:O35) | P36: =SUM(P6:P35)
A38: ملاحظات:
A39: • الخلايا الزرقاء تُدخلها أنت، والسوداء معادلات لا تكتب فوقها.
A40: • الإجمالي الخاضع = الراتب الأساسي + التعويضات والبدلات + العمل الإضافي.
A41: • التعويضات والبدلات الثابتة (نقل، طعام، سكن، هاتف...) يعاملها القالب أجراً خاضعاً للضريبة وداخلاً في الأجر المؤمَّن عليه، إذ لا يوجد إعفاء مؤكَّد لها.
A42: • تعويض النفقات الفعلية بإيصالات لا يخضع للضريبة ولا للتأمينات: يُضاف إلى الصافي وإلى التكلفة فقط.
A43: • الأجر المؤمَّن عليه = الراتب الأساسي + التعويضات، أو ما تكتبه يدوياً، بين الحدين الأدنى والأعلى في «الإعدادات».
A44: • المبلغ الخاضع للضريبة = الإجمالي الخاضع − اشتراك العامل − الحد المعفى، والضريبة = ١٥٪ منه، مقرّبة لأقرب ليرة.
A45: • الصافي المستحق = الإجمالي الخاضع − اشتراك العامل − الضريبة − السلف والخصومات + تعويض النفقات الفعلية.
A46: • للمعلومات العامة، وليس استشارة قانونية أو ضريبية. راجع محاسبك.

Sheet الإعدادات
A1: الإعدادات: النسب والحدود
A2: القيم النافذة في ٢ تشرين الثاني ٢٠٢٦، بالليرة السورية الجديدة. إن تغيّر القانون فعدّل الخلية الزرقاء، فيُعاد حساب الكشف كله.
A4: البند | B4: القيمة | C4: المصدر
A5: الحد الأدنى للأجور = الحد المعفى من ضريبة الرواتب (شهرياً) | B5: 12560 | C5: المرسوم ٦٧ لعام ٢٠٢٦ (الحد الأدنى للأجور)، والحد المعفى يساويه وفق المرسوم التشريعي ٣٠ لعام ٢٠٢٣
A6: الحد الأدنى للأجر المؤمَّن عليه | B6: 12560 | C6: قرار المؤسسة العامة للتأمينات الاجتماعية ١٣٩٤ لعام ٢٠٢٦
A7: الحد الأعلى للأجر المؤمَّن عليه | B7: 211400 | C7: قرار المؤسسة العامة للتأمينات الاجتماعية ١٣٩٤ لعام ٢٠٢٦
A8: نسبة اشتراك العامل في التأمينات | B8: 0.07 | C8: قانون التأمينات الاجتماعية: حصة العامل ٧٪
A9: نسبة اشتراك صاحب العمل في التأمينات | B9: 0.171 | C9: ١٤٪ تقاعد + ٣٪ إصابة عمل + ٠٫١٪ رسم شهري
A10: نسبة ضريبة الرواتب على ما يتجاوز الحد المعفى | B10: 0.15 | C10: المرسوم التشريعي ٣٠ لعام ٢٠٢٣: الحد المعفى أعلى من حدود الشرائح كلها، فكل ما يتجاوزه في الشريحة الأخيرة ١٥٪

Sheet حول القالب
A1: قالب كشف رواتب مجاني
A2: قالب لتجهيز رواتب شركة في سوريا يدوياً: يحسب اشتراك التأمينات وضريبة الرواتب والصافي وتكلفة صاحب العمل بمعادلات، بالقواعد نفسها التي تعتمدها حاسبة الراتب الصافي على diwanhr.com.
A4: حدوده:
A5: • كل الأرقام تُدخل يدوياً كل شهر، ونسخ سطر أو الكتابة فوق معادلة قد يخطئ الصافي.
A6: • لا يرتبط بالدوام: التأخير والغياب والإضافي تنقلها بنفسك.
A7: • لا يُصدر قسائم راتب.
A8: • لا يعامل أي تعويض ثابت معاملة المعفى، لأن الإعفاء غير مؤكَّد. وإن أكّد لك محاسبك إعفاء بند ما، فعدّل سطره بنفسك.
A10: من إعداد ديوان · diwanhr.com
A12: المبالغ في الأمثلة توضيحية فقط. هذا القالب للمعلومات العامة، وليس استشارة قانونية أو ضريبية.
